BEGIN:VCALENDAR
VERSION:2.0
PRODID:-ABConcerts-events
METHOD:PUBLISH
BEGIN:VEVENT
TRANSP:OPAQUE
DTSTART:20151213T200000
DTEND:20151213T223000
SUMMARY:CHVE
LOCATION:AB Club - staand (Anspachlaan 110\, 1000 Brussel)
DESCRIPTION:Le leader d’Amenra se dévoile sur leur premier album\n‘Rasa’
URL;VALUE=URI:https://www.abconcerts.be/fr/agenda/chve/a105J000001wdYhQAI
UID:ABConcerts_event_d9bb0344-59a0-11eb-9857-5254eb761bff
SEQUENCE:0
DTSTAMP:20260424T131054Z
END:VEVENT
END:VCALENDAR
