BEGIN:VCALENDAR
VERSION:2.0
PRODID:-ABConcerts-events
METHOD:PUBLISH
BEGIN:VEVENT
TRANSP:OPAQUE
DTSTART:20150303T200000
DTEND:20150303T223000
SUMMARY:Champs
LOCATION:AB Club - staand (Anspachlaan 110\, 1000 Brussel)
DESCRIPTION:Un post-folk électro exquis\, doublé de close harmony
URL;VALUE=URI:https://www.abconcerts.be/fr/agenda/champs/a105J000001wdkuQAA
UID:ABConcerts_event_94551038-59a0-11eb-ac2a-5254eb761bff
SEQUENCE:0
DTSTAMP:20260422T165902Z
END:VEVENT
END:VCALENDAR
