BEGIN:VCALENDAR
VERSION:2.0
PRODID:-ABConcerts-events
METHOD:PUBLISH
BEGIN:VEVENT
TRANSP:OPAQUE
DTSTART:20241215T190000
DTEND:20241215T223000
SUMMARY:Calicos
LOCATION:AB Club - staand (Anspachlaan 110\, 1000 Brussel)
DESCRIPTION:L'americana belge avec un grand A et un grand B
URL;VALUE=URI:https://www.abconcerts.be/fr/agenda/calicos/a10Qw0000001apSIAQ
UID:ABConcerts_event_1ef0868a-64ea-6a7c-9c5a-a1defb6d5c50
SEQUENCE:0
DTSTAMP:20260420T154303Z
END:VEVENT
END:VCALENDAR
