BEGIN:VCALENDAR
VERSION:2.0
PRODID:-ABConcerts-events
METHOD:PUBLISH
BEGIN:VEVENT
TRANSP:OPAQUE
DTSTART:20160324T200000
DTEND:20160324T223000
SUMMARY:BRDCST: Michael Price Trio + Innerwoud
LOCATION:Het Archief van de Stad Brussel (unknown\, 1000 Brussel)
DESCRIPTION:Ce concert est annulé
URL;VALUE=URI:https://www.abconcerts.be/fr/agenda/brdcst-michael-price-trio-innerwoud/a105J000001wdXPQAY
UID:ABConcerts_event_bab23a80-59a0-11eb-ae2d-5254eb761bff
SEQUENCE:0
DTSTAMP:20260421T223826Z
END:VEVENT
END:VCALENDAR
