BEGIN:VCALENDAR
VERSION:2.0
PRODID:-ABConcerts-events
METHOD:PUBLISH
BEGIN:VEVENT
TRANSP:OPAQUE
DTSTART:20261110T190000
DTEND:20261110T223000
SUMMARY:Bonnie 'Prince' Billy presents We Are Together Again
LOCATION:AB Grote zaal (Anspachlaan 110\, 1000 Brussel)
DESCRIPTION:Indiebard présente son dernier album\, un véritable\nconcentré de chansons magnifiques
URL;VALUE=URI:https://www.abconcerts.be/fr/agenda/bonnie-prince-billy-presents-we-are-together-again/a10Qw00000CnRMoIAN
UID:ABConcerts_event_1f13c8e3-cbe0-6eac-9581-e5be4df85b46
SEQUENCE:0
DTSTAMP:20260423T001700Z
END:VEVENT
END:VCALENDAR
