BEGIN:VCALENDAR
VERSION:2.0
PRODID:-ABConcerts-events
METHOD:PUBLISH
BEGIN:VEVENT
TRANSP:OPAQUE
DTSTART:20260511T190000
DTEND:20260511T223000
SUMMARY:Blue
LOCATION:AB Grote zaal (Anspachlaan 110\, 1000 Brussel)
DESCRIPTION:Groupe pop londonien célèbre 25 ans de carrière
URL;VALUE=URI:https://www.abconcerts.be/fr/agenda/blue/a10Qw000009gS7ZIAU
UID:ABConcerts_event_1f088e07-2ce6-6120-9d23-1d2d58d6db32
SEQUENCE:0
DTSTAMP:20260421T112436Z
END:VEVENT
END:VCALENDAR
