BEGIN:VCALENDAR
VERSION:2.0
PRODID:-ABConcerts-events
METHOD:PUBLISH
BEGIN:VEVENT
TRANSP:OPAQUE
DTSTART:20160218T200000
DTEND:20160218T223000
SUMMARY:Black Box Revelation
LOCATION:AB Grote zaal (Anspachlaan 110\, 1000 Brussel)
DESCRIPTION:Le grand retour sur scène
URL;VALUE=URI:https://www.abconcerts.be/fr/agenda/black-box-revelation/a105J000001wdXuQAI
UID:ABConcerts_event_c78590fe-59a0-11eb-b93d-5254eb761bff
SEQUENCE:0
DTSTAMP:20260424T072744Z
END:VEVENT
END:VCALENDAR
