BEGIN:VCALENDAR
VERSION:2.0
PRODID:-ABConcerts-events
METHOD:PUBLISH
BEGIN:VEVENT
TRANSP:OPAQUE
DTSTART:20170329T200000
DTEND:20170329T223000
SUMMARY:Birdy Nam Nam
LOCATION:AB Grote zaal (Anspachlaan 110\, 1000 Brussel)
DESCRIPTION:Le trio emblématique de l’électro française revient en\nsalle!
URL;VALUE=URI:https://www.abconcerts.be/fr/agenda/birdy-nam-nam/a105J000001wdSvQAI
UID:ABConcerts_event_9ffc9a32-59a0-11eb-89ae-5254eb761bff
SEQUENCE:0
DTSTAMP:20260423T033824Z
END:VEVENT
END:VCALENDAR
