BEGIN:VCALENDAR
VERSION:2.0
PRODID:-ABConcerts-events
METHOD:PUBLISH
BEGIN:VEVENT
TRANSP:OPAQUE
DTSTART:20140524T203000
DTEND:20140524T223000
SUMMARY:Billy Hart Quartet (Jazzmarathon)
LOCATION:AB Club - staand (Anspachlaan 110\, 1000 Brussel)
DESCRIPTION:Un jazz classieux édité par l'emblématique label ECM
URL;VALUE=URI:https://www.abconcerts.be/fr/agenda/billy-hart-quartet-jazzmarathon/a105J000001wgtwQAA
UID:ABConcerts_event_3e4e6518-59a0-11eb-b8cc-5254eb761bff
SEQUENCE:0
DTSTAMP:20260423T032726Z
END:VEVENT
END:VCALENDAR
