BEGIN:VCALENDAR
VERSION:2.0
PRODID:-ABConcerts-events
METHOD:PUBLISH
BEGIN:VEVENT
TRANSP:OPAQUE
DTSTART:20230124T190000
DTEND:20230124T223000
SUMMARY:Bigflo & Oli
LOCATION:AB Grote zaal (Anspachlaan 110\, 1000 Brussel)
DESCRIPTION:"Back to basics"
URL;VALUE=URI:https://www.abconcerts.be/fr/agenda/bigflo-oli/a105J000006up8zQAA
UID:ABConcerts_event_fb7f761a-e804-11ec-b731-5254eb761bff
SEQUENCE:0
DTSTAMP:20260425T042425Z
END:VEVENT
END:VCALENDAR
