BEGIN:VCALENDAR
VERSION:2.0
PRODID:-ABConcerts-events
METHOD:PUBLISH
BEGIN:VEVENT
TRANSP:OPAQUE
DTSTART:20131017T200000
DTEND:20131017T223000
SUMMARY:Bent Van Looy voor fietsers/pour cyclistes
LOCATION:AB Complex (Anspachlaan 110\, 1000 Brussel)
DESCRIPTION:Le beau leader de Das Pop nous ouvre les portes de son âme
URL;VALUE=URI:https://www.abconcerts.be/fr/agenda/bent-van-looy-voor-fietserspour-cyclistes/a105J000001wgrgQAA
UID:ABConcerts_event_18d4fba8-59a0-11eb-9fe2-5254eb761bff
SEQUENCE:0
DTSTAMP:20260420T013410Z
END:VEVENT
END:VCALENDAR
