BEGIN:VCALENDAR
VERSION:2.0
PRODID:-ABConcerts-events
METHOD:PUBLISH
BEGIN:VEVENT
TRANSP:OPAQUE
DTSTART:20131017T200000
DTEND:20131017T223000
SUMMARY:Bent Van Looy + Jason Falkner
LOCATION:AB Theater (Anspachlaan 110\, 1000 Brussel)
DESCRIPTION:Le beau leader de Das Pop nous ouvre les portes de son âme
URL;VALUE=URI:https://www.abconcerts.be/fr/agenda/bent-van-looy-jason-falkner/a105J000001wgqtQAA
UID:ABConcerts_event_25af5670-59a0-11eb-8d81-5254eb761bff
SEQUENCE:0
DTSTAMP:20260420T012700Z
END:VEVENT
END:VCALENDAR
