BEGIN:VCALENDAR
VERSION:2.0
PRODID:-ABConcerts-events
METHOD:PUBLISH
BEGIN:VEVENT
TRANSP:OPAQUE
DTSTART:20261104T190000
DTEND:20261104T223000
SUMMARY:Bel Cobain
LOCATION:AB Club - staand (Anspachlaan 110\, 1000 Brussel)
DESCRIPTION:Des textes engagés et des mélodies envoûtantes tout droit\nvenues de l'est de Londres
URL;VALUE=URI:https://www.abconcerts.be/fr/agenda/bel-cobain/a10Qw00000GnyHxIAJ
UID:ABConcerts_event_1f13a443-3ba1-61f8-ac5c-3733c410e51a
SEQUENCE:0
DTSTAMP:20260421T152423Z
END:VEVENT
END:VCALENDAR
