BEGIN:VCALENDAR
VERSION:2.0
PRODID:-ABConcerts-events
METHOD:PUBLISH
BEGIN:VEVENT
TRANSP:OPAQUE
DTSTART:20151010T190000
DTEND:20151010T223000
SUMMARY:Bear's Den
LOCATION:AB Flex (Anspachlaan 110\, 1000 Brussel)
DESCRIPTION:Le trio d'indie folk transforme l'AB en feu de camp
URL;VALUE=URI:https://www.abconcerts.be/fr/agenda/bears-den/a105J000001wdbSQAQ
UID:ABConcerts_event_54f75fb4-599f-11eb-87bf-5254eb761bff
SEQUENCE:0
DTSTAMP:20260419T145212Z
END:VEVENT
END:VCALENDAR
