BEGIN:VCALENDAR
VERSION:2.0
PRODID:-ABConcerts-events
METHOD:PUBLISH
BEGIN:VEVENT
TRANSP:OPAQUE
DTSTART:20250304T190000
DTEND:20250304T223000
SUMMARY:Bandler Ching
LOCATION:AB Club - staand (Anspachlaan 110\, 1000 Brussel)
DESCRIPTION:Groove based jazz\, noise\, impro\, electro band from\nBrussels
URL;VALUE=URI:https://www.abconcerts.be/fr/agenda/bandler-ching/a10Qw000003wvKMIAY
UID:ABConcerts_event_1ef7a7eb-0f0a-6862-8b69-691173672935
SEQUENCE:0
DTSTAMP:20260422T124743Z
END:VEVENT
END:VCALENDAR
