BEGIN:VCALENDAR
VERSION:2.0
PRODID:-ABConcerts-events
METHOD:PUBLISH
BEGIN:VEVENT
TRANSP:OPAQUE
DTSTART:20131107T200000
DTEND:20131107T223000
SUMMARY:Babylon Circus
LOCATION:AB Grote zaal (Anspachlaan 110\, 1000 Brussel)
DESCRIPTION:Le concert du jeudi 7 novembre est déplacé au jeudi 23\njanvier 2014. La sortie du nouvel album de Babylon Circus «\nNEVER STOP » a été repoussée à la fin octobre\, et la\npromotion ainsi que la diffusion ne font que commencer. Les\nartistes et les organisateurs du concert AB et UBU sont\ndésolés de ce report… bien indépendant de leur\nvolonté. Les billets restent valables ou peuvent être\néchangés dans les points de vente d’origine. Le jeudi 23\nJanvier 2014 est donc la nouvelle date à ne pas manquer !  \n     Les tickets achetés pour le 7 novembr restent valables\npour la nouvelle date et ne doivent pas être échangeé.   \nSi la nouvelle date ne convient pas\, les tickets seront\nremboursés.Si vous avez reçu la confirmation des e-tickets\npar courriel\, veuillez renvoyer ce courriel à\ninfo@abconcerts.be avec mention de votre numéro de compte\nen banque.Si vous avez des tickets\, veuillez les renvoyer\navec mention de votre numéro de compte en banque à AB\nTicketshop\, 110 Boulevard Anspach\, 1000 Bruxelles ou\npassez à une des caisses de l&#39;AB.Tickets achetés à la\nFNAC\, seront remboursés à la FNAC.
URL;VALUE=URI:https://www.abconcerts.be/fr/agenda/babylon-circus/a105J000001wgqoQAA
UID:ABConcerts_event_2387e29a-59a0-11eb-8936-5254eb761bff
SEQUENCE:0
DTSTAMP:20260420T041520Z
END:VEVENT
END:VCALENDAR
