BEGIN:VCALENDAR
VERSION:2.0
PRODID:-ABConcerts-events
METHOD:PUBLISH
BEGIN:VEVENT
TRANSP:OPAQUE
DTSTART:20171028T200000
DTEND:20171028T223000
SUMMARY:B.A.A.D.M. Label Night: opéra Mort (live) + Mathieu Serruys
 + Screening 'Living' Frans Zwartjes
LOCATION:AB Salon - zittend (Steenstraat 11\, 1000 Brussel)
DESCRIPTION:Une soirée autour d’un label belge unique
URL;VALUE=URI:https://www.abconcerts.be/fr/agenda/baadm-label-night-opera-mort-live-mathieu-serruys-screening-living-frans-zwartjes/a105J000001wdLoQAI
UID:ABConcerts_event_d851c006-59a0-11eb-beab-5254eb761bff
SEQUENCE:0
DTSTAMP:20260422T140655Z
END:VEVENT
END:VCALENDAR
