BEGIN:VCALENDAR
VERSION:2.0
PRODID:-ABConcerts-events
METHOD:PUBLISH
BEGIN:VEVENT
TRANSP:OPAQUE
DTSTART:20220512T200000
DTEND:20220512T223000
SUMMARY:Avalanche Kaito + Naima Joris plays Daniel Johnston
LOCATION:AB Box (Anspachlaan 110\, 1000 Brussel)
DESCRIPTION:Entrée gratuite pour ces avant-premières
URL;VALUE=URI:https://www.abconcerts.be/fr/agenda/avalanche-kaito-naima-joris-plays-daniel-johnston/a105J000005I8rkQAC
UID:ABConcerts_event_e2c8f6c2-aab1-11ec-9405-5254eb761bff
SEQUENCE:0
DTSTAMP:20260422T110544Z
END:VEVENT
END:VCALENDAR
