BEGIN:VCALENDAR
VERSION:2.0
PRODID:-ABConcerts-events
METHOD:PUBLISH
BEGIN:VEVENT
TRANSP:OPAQUE
DTSTART:20150408T203000
DTEND:20150408T223000
SUMMARY:Austin Miller
LOCATION:AB Salon - zittend (Steenstraat 11\, 1000 Brussel)
DESCRIPTION:1er concert belge pour ce singer-songwriter américain
URL;VALUE=URI:https://www.abconcerts.be/fr/agenda/austin-miller/a105J000001wdlpQAA
UID:ABConcerts_event_9a891cce-59a0-11eb-9a4d-5254eb761bff
SEQUENCE:0
DTSTAMP:20260423T164640Z
END:VEVENT
END:VCALENDAR
