BEGIN:VCALENDAR
VERSION:2.0
PRODID:-ABConcerts-events
METHOD:PUBLISH
BEGIN:VEVENT
TRANSP:OPAQUE
DTSTART:20140413T200000
DTEND:20140413T223000
SUMMARY:ASG + Anciients + Your Highness
LOCATION:AB Club - staand (Anspachlaan 110\, 1000 Brussel)
DESCRIPTION:Du stoner comme à la bonne vieille époque des Desert\nSession
URL;VALUE=URI:https://www.abconcerts.be/fr/agenda/asg-anciients-your-highness/a105J000001we55QAA
UID:ABConcerts_event_95ec0690-59a0-11eb-95ac-5254eb761bff
SEQUENCE:0
DTSTAMP:20260422T200152Z
END:VEVENT
END:VCALENDAR
