BEGIN:VCALENDAR
VERSION:2.0
PRODID:-ABConcerts-events
METHOD:PUBLISH
BEGIN:VEVENT
TRANSP:OPAQUE
DTSTART:20151206T180000
DTEND:20151206T223000
SUMMARY:Artist talk: Dani Klein & Sal La Rocca
LOCATION:AB Salon - zittend (Steenstraat 11\, 1000 Brussel)
DESCRIPTION:Klein et La Rocca parlent de leur projet unique au sujet de\nBillie Holiday
URL;VALUE=URI:https://www.abconcerts.be/fr/agenda/artist-talk-dani-klein-sal-la-rocca/a105J000001wdXcQAI
UID:ABConcerts_event_bfd421cc-59a0-11eb-8deb-5254eb761bff
SEQUENCE:0
DTSTAMP:20260424T052601Z
END:VEVENT
END:VCALENDAR
