BEGIN:VCALENDAR
VERSION:2.0
PRODID:-ABConcerts-events
METHOD:PUBLISH
BEGIN:VEVENT
TRANSP:OPAQUE
DTSTART:20180201T200000
DTEND:20180201T223000
SUMMARY:All Eyes On Hip Hop presents Kutmah + Samiyam
LOCATION:AB Club - staand (Anspachlaan 110\, 1000 Brussel)
DESCRIPTION:Double affiche avec deux fondateurs du hip-hop instrumental\n!
URL;VALUE=URI:https://www.abconcerts.be/fr/agenda/all-eyes-on-hip-hop-presents-kutmah-samiyam/a105J000001wdJ7QAI
UID:ABConcerts_event_72eff3a4-59a0-11eb-8327-5254eb761bff
SEQUENCE:0
DTSTAMP:20260425T183203Z
END:VEVENT
END:VCALENDAR
