BEGIN:VCALENDAR
VERSION:2.0
PRODID:-ABConcerts-events
METHOD:PUBLISH
BEGIN:VEVENT
TRANSP:OPAQUE
DTSTART:20140521T200000
DTEND:20140521T223000
SUMMARY:All Connected #4: Dolphins Into The Future - Godfried-Willem
 Raes + Screening Erkki Kurenniemi films
LOCATION:AB Salon - zittend (Steenstraat 11\, 1000 Brussel)
DESCRIPTION:All ConnectedOrganisé dans notre Huis23\, All Connected est\nun nouveau cycle proposant des concerts\, des films\, des\nconférences et des présentations d&#39;instruments. Ces\nsoirées s’organisent autour et en collaboration avec des\nartistes parlant la langue du « voltage control » et\nutilisant le « modulaire » comme processus créatif afin\nnotamment d&#39;explorer les frontières musicales. Des\nartistes qui travaillent dans l&#39;esprit du San Francisco\nTape Music Center\, un collectif né lorsque des pionniers\ncomme Terry Riley\, Morton Subotnick\, Steve Reich\, Ramon\nSender\, Pauline Oliveros et bien d&#39;autres ont connecté\nleur oscillateurs à des enregistreurs à bandes pour créer\nla plus avant-gardiste des musiques de cette période.   \nDolphins Into The FutureLieven Martens Moana est un artiste\net compositeur anversois qui joue depuis de nombreuses\nannées un rôle prépondérant dans le milieu de la musique\nexpérimentale belge. En fusionnant musique concrète\,\nfield recordings\, synthèse électronique\, new age et\nnoise actuelle\, il parvient à créer un mélange unique\nd&#39;avant-garde historique et de néo-romantisme\npoétique. Ses impressionnantes productions sont parues sur\ndes labels comme KRAAK et Aguirre Records.Pour son concert\nAll Connected\, il sera accompagné de Wietske van Gils qui\nassurera les projections vidéos. Godfried-Willem RaesDr.\nGodfried Willem Raes est un phénomène de l&#39;histoire\nrécente de l&#39;art belge. En plus d&#39;organiser des\nconcerts et d&#39;être tout à la fois compositeur\,\nperformeur\, professeur et facteur d&#39;instruments\,\nc&#39;est aussi un expert en technologie informatique. Il a\nainsi fondé la Logos Foundation en soutien aux musiques\nnouvelles. Il a étudié la musicologie\, la philosophie\,\nle piano\, la clarinette\, les percussions et la\ncomposition. Il a publié de nombreux essais critiques et\ndes articles scientifiques et techniques souvent sujets à\npolémiques pour des magazines spécialisés. Sa production\nartistique et scientifique est inépuisable et jouit\nd&#39;une reconnaissance mondiale. Raes est aussi un\nirréductible fumeur de pipe. Il est végétarien depuis\nplus de 49 ans\, anarchiste\, anti-royaliste\,\nanti-nationaliste\, athée et agnostique. Il n&#39;a jamais\nbu de Coca-Cola. Il n&#39;a pas le permis de conduire et\nn&#39;a ni voiture\, ni enfants\, ni chat\, ni GSM ... Son\nsite web regorge d&#39;informations sur sa vie et son\ntravail et vaut amplement le détour :\nhttp://www.logosfoundation.orgDr. Raes nous a promis\nd&#39;amener quelques vieux instruments pour sa performance\ndans le cadre de All Connected.    Screening Erkki\nKurenniemi filmsL&#39;artiste\, philosophe et designer\nfinlandais Kurenniemi est surtout connu pour ses\ncompositions électroniques. Il est considéré comme\nl&#39;un des principaux pionniers de la musique\nélectronique en Finlande. Au cours de sa longue carrière\,\nil a aussi réalisé divers films expérimentaux dont\ncertains seront projetés ce\nsoir.links:http://cetaceannationcommunications.blogspot.be/http://www.logosfoundation.org/http://en.wikipedia.org/wiki/Erkki_Kurenniemi\n        L&#39;entrée est gratuite mais les places sont\nlimitées. Veuillez vous inscrire via\nreservationshuis23@abconcerts.be en mentionnant « Dolphins\n» en objet de votre mail.
URL;VALUE=URI:https://www.abconcerts.be/fr/agenda/all-connected-4-dolphins-into-the-future-godfried-willem-raes-screening-erkki-kurenniemi-films/a105J000001wguIQAQ
UID:ABConcerts_event_43e0505e-59a0-11eb-9280-5254eb761bff
SEQUENCE:0
DTSTAMP:20260423T020857Z
END:VEVENT
END:VCALENDAR
