BEGIN:VCALENDAR
VERSION:2.0
PRODID:-ABConcerts-events
METHOD:PUBLISH
BEGIN:VEVENT
TRANSP:OPAQUE
DTSTART:20180301T200000
DTEND:20180301T223000
SUMMARY:Alice Boman
LOCATION:AB Salon - zittend (Steenstraat 11\, 1000 Brussel)
DESCRIPTION:Des compositions fragiles ciselées en Suède
URL;VALUE=URI:https://www.abconcerts.be/fr/agenda/alice-boman/a105J000001wdJFQAY
UID:ABConcerts_event_749eaec0-59a0-11eb-ae07-5254eb761bff
SEQUENCE:0
DTSTAMP:20260425T221405Z
END:VEVENT
END:VCALENDAR
