BEGIN:VCALENDAR
VERSION:2.0
PRODID:-ABConcerts-events
METHOD:PUBLISH
BEGIN:VEVENT
TRANSP:OPAQUE
DTSTART:20151104T200000
DTEND:20151104T223000
SUMMARY:Algiers
LOCATION:AB Club - staand (Anspachlaan 110\, 1000 Brussel)
DESCRIPTION:Un nouveau venu chez Matador\, essentiel et contestataire
URL;VALUE=URI:https://www.abconcerts.be/fr/agenda/algiers/a105J000001wdZqQAI
UID:ABConcerts_event_5112d428-599f-11eb-a99a-5254eb761bff
SEQUENCE:0
DTSTAMP:20260424T040146Z
END:VEVENT
END:VCALENDAR
