BEGIN:VCALENDAR
VERSION:2.0
PRODID:-ABConcerts-events
METHOD:PUBLISH
BEGIN:VEVENT
TRANSP:OPAQUE
DTSTART:20180502T200000
DTEND:20180502T223000
SUMMARY:Akira Sakata & Giovanni Di Domenico + Jonas Cambien Trio fea
t. Wildhagen & Roligheten
LOCATION:AB Salon - zittend (Steenstraat 11\, 1000 Brussel)
DESCRIPTION:Double affiche d’impro en collaboration avec Oorstof /\nSound In Motion
URL;VALUE=URI:https://www.abconcerts.be/fr/agenda/akira-sakata-giovanni-di-domenico-jonas-cambien-trio-feat-wildhagen-roligheten/a105J000001wdIGQAY
UID:ABConcerts_event_72d08942-59a0-11eb-802a-5254eb761bff
SEQUENCE:0
DTSTAMP:20260425T131321Z
END:VEVENT
END:VCALENDAR
