BEGIN:VCALENDAR
VERSION:2.0
PRODID:-ABConcerts-events
METHOD:PUBLISH
BEGIN:VEVENT
TRANSP:OPAQUE
DTSTART:20231110T190000
DTEND:20231110T223000
SUMMARY:Against The Current
LOCATION:AB Ballroom (Anspachlaan 110\, 1000 Brussel)
DESCRIPTION:Nightmares & Daydreams 2023 Tournée Mondiale
URL;VALUE=URI:https://www.abconcerts.be/fr/agenda/against-the-current/a105J000006usB4QAI
UID:ABConcerts_event_7fbdd576-95bf-11ed-9147-5254eb761bff
SEQUENCE:0
DTSTAMP:20260423T151441Z
END:VEVENT
END:VCALENDAR
