BEGIN:VCALENDAR
VERSION:2.0
PRODID:-ABConcerts-events
METHOD:PUBLISH
BEGIN:VEVENT
TRANSP:OPAQUE
DTSTART:20150927T190000
DTEND:20150927T223000
SUMMARY:Action Bronson
LOCATION:AB Grote zaal (Anspachlaan 110\, 1000 Brussel)
DESCRIPTION:L’ancien cuisinier sort son album Mr. Wonderful’ chez\nVice/Atlantic
URL;VALUE=URI:https://www.abconcerts.be/fr/agenda/action-bronson/a105J000001wdcqQAA
UID:ABConcerts_event_4e8d88ce-599f-11eb-89a7-5254eb761bff
SEQUENCE:0
DTSTAMP:20260422T071817Z
END:VEVENT
END:VCALENDAR
