BEGIN:VCALENDAR
VERSION:2.0
PRODID:-ABConcerts-events
METHOD:PUBLISH
BEGIN:VEVENT
TRANSP:OPAQUE
DTSTART:20150527T200000
DTEND:20150527T223000
SUMMARY:ABClubcircuit - AB @ Cactus: Doldrums
LOCATION:Muziekcentrum Cactus (unknown\, 1000 Brussel)
DESCRIPTION:De l'art pop DIY venue de Montréal! Pensez Grimes & Panda\nBear
URL;VALUE=URI:https://www.abconcerts.be/fr/agenda/abclubcircuit-ab-cactus-doldrums/a105J000001wdjZQAQ
UID:ABConcerts_event_801db962-59a0-11eb-ae35-5254eb761bff
SEQUENCE:0
DTSTAMP:20260423T212451Z
END:VEVENT
END:VCALENDAR
