BEGIN:VCALENDAR
VERSION:2.0
PRODID:-ABConcerts-events
METHOD:PUBLISH
BEGIN:VEVENT
TRANSP:OPAQUE
DTSTART:20261205T190000
DTEND:20261205T223000
SUMMARY:AB x VK:  Bilal
LOCATION:VK (Schoolstraat 76\, 1080 Sint-Jans-Molenbeek)
DESCRIPTION:Celebrating 25 Years of iconic debut album '1st Born Second'
URL;VALUE=URI:https://www.abconcerts.be/fr/agenda/ab-x-vk-bilal/a10Qw00000IGYcrIAH
UID:ABConcerts_event_1f13999c-5428-698a-aff4-e341742682a6
SEQUENCE:0
DTSTAMP:20260421T152618Z
END:VEVENT
END:VCALENDAR
