BEGIN:VCALENDAR
VERSION:2.0
PRODID:-ABConcerts-events
METHOD:PUBLISH
BEGIN:VEVENT
TRANSP:OPAQUE
DTSTART:20171107T193000
DTEND:20171107T223000
SUMMARY:AB & Humo presenteren: Wu Tang Clan - Wu Tang Forever - List
ening Session
LOCATION:AB Salon - zittend (Steenstraat 11\, 1000 Brussel)
DESCRIPTION:Session d’écoute du grand classique du Wu Tang Clan
URL;VALUE=URI:https://www.abconcerts.be/fr/agenda/ab-humo-presenteren-wu-tang-clan-wu-tang-forever-listening-session/a105J000001wdKjQAI
UID:ABConcerts_event_58a0e392-599f-11eb-8f0b-5254eb761bff
SEQUENCE:0
DTSTAMP:20260422T124007Z
END:VEVENT
END:VCALENDAR
