BEGIN:VCALENDAR
VERSION:2.0
PRODID:-ABConcerts-events
METHOD:PUBLISH
BEGIN:VEVENT
TRANSP:OPAQUE
DTSTART:20131012T203000
DTEND:20131012T223000
SUMMARY:AB & Beursschouwburg doen het samen : Shangaan Electro + Té
mé Tan
LOCATION:AB Salon - zittend (Steenstraat 11\, 1000 Brussel)
DESCRIPTION:L'AB & Beursschouwburg unissent leurs forces.
URL;VALUE=URI:https://www.abconcerts.be/fr/agenda/ab-beursschouwburg-doen-het-samen-shangaan-electro-teme-tan/a105J000001wgsSQAQ
UID:ABConcerts_event_2aaa038c-59a0-11eb-9c20-5254eb761bff
SEQUENCE:0
DTSTAMP:20260420T013527Z
END:VEVENT
END:VCALENDAR
