BEGIN:VCALENDAR
VERSION:2.0
PRODID:-ABConcerts-events
METHOD:PUBLISH
BEGIN:VEVENT
TRANSP:OPAQUE
DTSTART:20260427T190000
DTEND:20260427T223000
SUMMARY:2L
LOCATION:AB Club - staand (Anspachlaan 110\, 1000 Brussel)
DESCRIPTION:Rappeuse parisienne aux textes engagés et au flow incisif
URL;VALUE=URI:https://www.abconcerts.be/fr/agenda/2l/a10Qw00000Fw7jdIAB
UID:ABConcerts_event_1f0ebca2-d641-62ae-936e-f1f915c79e3d
SEQUENCE:0
DTSTAMP:20260419T183247Z
END:VEVENT
END:VCALENDAR
