BEGIN:VCALENDAR
VERSION:2.0
PRODID:-ABConcerts-events
METHOD:PUBLISH
BEGIN:VEVENT
TRANSP:OPAQUE
DTSTART:20251107T203000
DTEND:20251108T030000
SUMMARY:Youth L’AB Presents: Lullaby
LOCATION:AB Club - staand (Anspachlaan 110\, 1000 Brussel)
DESCRIPTION:Lullaby - a dream that you’ll never want to end!
URL;VALUE=URI:https://www.abconcerts.be/en/agenda/youth-lab-presents-lullaby/a10Qw000008h4tPIAQ
UID:ABConcerts_event_1f09d364-ec4f-6f54-b174-49ba23e832cc
SEQUENCE:0
DTSTAMP:20260421T084735Z
END:VEVENT
END:VCALENDAR
