BEGIN:VCALENDAR
VERSION:2.0
PRODID:-ABConcerts-events
METHOD:PUBLISH
BEGIN:VEVENT
TRANSP:OPAQUE
DTSTART:20130525T200000
DTEND:20130525T223000
SUMMARY:Youngblood Brass Band + BRZZVLL
LOCATION:AB Grote zaal (Anspachlaan 110\, 1000 Brussel)
DESCRIPTION:Free\, funky & festive Jazz-marathon bill!
URL;VALUE=URI:https://www.abconcerts.be/en/agenda/youngblood-brass-band-brzzvll/a105J000001wgquQAA
UID:ABConcerts_event_25bb6258-59a0-11eb-9312-5254eb761bff
SEQUENCE:0
DTSTAMP:20260419T163833Z
END:VEVENT
END:VCALENDAR
