BEGIN:VCALENDAR
VERSION:2.0
PRODID:-ABConcerts-events
METHOD:PUBLISH
BEGIN:VEVENT
TRANSP:OPAQUE
DTSTART:20170327T200000
DTEND:20170327T223000
SUMMARY:You Me At Six
LOCATION:AB Box (Anspachlaan 110\, 1000 Brussel)
DESCRIPTION:Pushing back frontiers with fifth longplayer ‘Night\nPeople’
URL;VALUE=URI:https://www.abconcerts.be/en/agenda/you-me-at-six/a105J000001wdROQAY
UID:ABConcerts_event_b18d92e2-59a0-11eb-9352-5254eb761bff
SEQUENCE:0
DTSTAMP:20260423T021423Z
END:VEVENT
END:VCALENDAR
