BEGIN:VCALENDAR
VERSION:2.0
PRODID:-ABConcerts-events
METHOD:PUBLISH
BEGIN:VEVENT
TRANSP:OPAQUE
DTSTART:20140521T193000
DTEND:20140521T223000
SUMMARY:Yes: Triple Album Rewind
LOCATION:AB Grote zaal (Anspachlaan 110\, 1000 Brussel)
DESCRIPTION:The Yes Album\, Close To The Edge\, Going For The One!
URL;VALUE=URI:https://www.abconcerts.be/en/agenda/yes-triple-album-rewind/a105J000001we5HQAQ
UID:ABConcerts_event_96da2140-59a0-11eb-9cf5-5254eb761bff
SEQUENCE:0
DTSTAMP:20260423T003147Z
END:VEVENT
END:VCALENDAR
