BEGIN:VCALENDAR
VERSION:2.0
PRODID:-ABConcerts-events
METHOD:PUBLISH
BEGIN:VEVENT
TRANSP:OPAQUE
DTSTART:20160429T200000
DTEND:20160429T223000
SUMMARY:Xavier Rudd
LOCATION:AB Grote zaal (Anspachlaan 110\, 1000 Brussel)
DESCRIPTION:Extra date!
URL;VALUE=URI:https://www.abconcerts.be/en/agenda/xavier-rudd/a105J000001wdWNQAY
UID:ABConcerts_event_e9490d1a-59a0-11eb-a9ed-5254eb761bff
SEQUENCE:0
DTSTAMP:20260423T211834Z
END:VEVENT
END:VCALENDAR
