BEGIN:VCALENDAR
VERSION:2.0
PRODID:-ABConcerts-events
METHOD:PUBLISH
BEGIN:VEVENT
TRANSP:OPAQUE
DTSTART:20171101T160000
DTEND:20171101T223000
SUMMARY:Wiegedood + CHVE vs Syndrome + IIVII + Sembler Deah + FÄR
LOCATION:AB Box (Anspachlaan 110\, 1000 Brussel)
DESCRIPTION:An intense & dark evening with Consouling Sounds
URL;VALUE=URI:https://www.abconcerts.be/en/agenda/wiegedood-chve-vs-syndrome-iivii-sembler-deah-far/a105J000001wdMJQAY
UID:ABConcerts_event_e24cf080-59a0-11eb-8b07-5254eb761bff
SEQUENCE:0
DTSTAMP:20260425T194435Z
END:VEVENT
END:VCALENDAR
