BEGIN:VCALENDAR
VERSION:2.0
PRODID:-ABConcerts-events
METHOD:PUBLISH
BEGIN:VEVENT
TRANSP:OPAQUE
DTSTART:20161030T200000
DTEND:20161030T223000
SUMMARY:Whitney
LOCATION:AB Club - staand (Anspachlaan 110\, 1000 Brussel)
DESCRIPTION:Ultimate pop band verging on breakthrough
URL;VALUE=URI:https://www.abconcerts.be/en/agenda/whitney/a105J000001wdTsQAI
UID:ABConcerts_event_aa9e69b6-59a0-11eb-8519-5254eb761bff
SEQUENCE:0
DTSTAMP:20260423T102743Z
END:VEVENT
END:VCALENDAR
