BEGIN:VCALENDAR
VERSION:2.0
PRODID:-ABConcerts-events
METHOD:PUBLISH
BEGIN:VEVENT
TRANSP:OPAQUE
DTSTART:20170314T200000
DTEND:20170314T223000
SUMMARY:Walking On Cars - New Date
LOCATION:AB Club - staand (Anspachlaan 110\, 1000 Brussel)
DESCRIPTION:Irish pop-rock for fans of Bastille and The Script!
URL;VALUE=URI:https://www.abconcerts.be/en/agenda/walking-on-cars-new-date/a105J000001wdRQQAY
UID:ABConcerts_event_b88ac7c2-59a0-11eb-9ffa-5254eb761bff
SEQUENCE:0
DTSTAMP:20260423T022304Z
END:VEVENT
END:VCALENDAR
