BEGIN:VCALENDAR
VERSION:2.0
PRODID:-ABConcerts-events
METHOD:PUBLISH
BEGIN:VEVENT
TRANSP:OPAQUE
DTSTART:20170402T200000
DTEND:20170402T223000
SUMMARY:Vlek Label Night: Yann Leguay
LOCATION:AB Salon - zittend (Steenstraat 11\, 1000 Brussel)
DESCRIPTION:Night focusing upon Brussels electronica label Vlek
URL;VALUE=URI:https://www.abconcerts.be/en/agenda/vlek-label-night-yann-leguay/a105J000001wdP6QAI
UID:ABConcerts_event_8e93cca2-59a0-11eb-a663-5254eb761bff
SEQUENCE:0
DTSTAMP:20260423T005056Z
END:VEVENT
END:VCALENDAR
