BEGIN:VCALENDAR
VERSION:2.0
PRODID:-ABConcerts-events
METHOD:PUBLISH
BEGIN:VEVENT
TRANSP:OPAQUE
DTSTART:20151018T190000
DTEND:20151018T223000
SUMMARY:Vinicio Capossela & La Banda Della Posta: Qu' Art de Siècle
LOCATION:AB Flex (Anspachlaan 110\, 1000 Brussel)
DESCRIPTION:Qu' Art De Siècle di canzone italiane
URL;VALUE=URI:https://www.abconcerts.be/en/agenda/vinicio-capossela-la-banda-della-posta-qu-art-de-siecle/a105J000001wdb6QAA
UID:ABConcerts_event_54ceebb0-599f-11eb-88c0-5254eb761bff
SEQUENCE:0
DTSTAMP:20260424T003332Z
END:VEVENT
END:VCALENDAR
