BEGIN:VCALENDAR
VERSION:2.0
PRODID:-ABConcerts-events
METHOD:PUBLISH
BEGIN:VEVENT
TRANSP:OPAQUE
DTSTART:20151102T200000
DTEND:20151102T223000
SUMMARY:Unknown Mortal Orchestra
LOCATION:AB Box (Anspachlaan 110\, 1000 Brussel)
DESCRIPTION:Unique sixties pop with dashes of Prince and Tame Impala
URL;VALUE=URI:https://www.abconcerts.be/en/agenda/unknown-mortal-orchestra/a105J000001wdbGQAQ
UID:ABConcerts_event_54752120-599f-11eb-8d21-5254eb761bff
SEQUENCE:0
DTSTAMP:20260424T030653Z
END:VEVENT
END:VCALENDAR
