BEGIN:VCALENDAR
VERSION:2.0
PRODID:-ABConcerts-events
METHOD:PUBLISH
BEGIN:VEVENT
TRANSP:OPAQUE
DTSTART:20170219T200000
DTEND:20170219T223000
SUMMARY:Tom Grennan
LOCATION:AB Salon - zittend (Steenstraat 11\, 1000 Brussel)
DESCRIPTION:BBC Sound of 2017 finalist with unique\, distinctive voice\nand guitar!
URL;VALUE=URI:https://www.abconcerts.be/en/agenda/tom-grennan/a105J000001wdPyQAI
UID:ABConcerts_event_973a935e-59a0-11eb-9f61-5254eb761bff
SEQUENCE:0
DTSTAMP:20260423T162221Z
END:VEVENT
END:VCALENDAR
