BEGIN:VCALENDAR
VERSION:2.0
PRODID:-ABConcerts-events
METHOD:PUBLISH
BEGIN:VEVENT
TRANSP:OPAQUE
DTSTART:20260501T190000
DTEND:20260501T223000
SUMMARY:TK
LOCATION:AB Grote zaal (Anspachlaan 110\, 1000 Brussel)
DESCRIPTION:Cancelled
URL;VALUE=URI:https://www.abconcerts.be/en/agenda/tk/a10Qw00000GrWjhIAF
UID:ABConcerts_event_1f1163a8-57bb-613c-a981-d1291926714f
SEQUENCE:0
DTSTAMP:20260419T174531Z
END:VEVENT
END:VCALENDAR
