BEGIN:VCALENDAR
VERSION:2.0
PRODID:-ABConcerts-events
METHOD:PUBLISH
BEGIN:VEVENT
TRANSP:OPAQUE
DTSTART:20131202T200000
DTEND:20131202T223000
SUMMARY:Titi Robin: Les Rives + Myrddin
LOCATION:AB Theater (Anspachlaan 110\, 1000 Brussel)
DESCRIPTION:India+Turkey+Morocco+Michto!
URL;VALUE=URI:https://www.abconcerts.be/en/agenda/titi-robin-les-rives-myrddin/a105J000001wgqOQAQ
UID:ABConcerts_event_6c630658-599f-11eb-b3b1-5254eb761bff
SEQUENCE:0
DTSTAMP:20260420T071225Z
END:VEVENT
END:VCALENDAR
