BEGIN:VCALENDAR
VERSION:2.0
PRODID:-ABConcerts-events
METHOD:PUBLISH
BEGIN:VEVENT
TRANSP:OPAQUE
DTSTART:20150406T200000
DTEND:20150406T223000
SUMMARY:Therapy?
LOCATION:AB Grote zaal (Anspachlaan 110\, 1000 Brussel)
DESCRIPTION:In AB for the 9th time! Bearing a new album
URL;VALUE=URI:https://www.abconcerts.be/en/agenda/therapy/a105J000001wdk6QAA
UID:ABConcerts_event_8cf12124-59a0-11eb-b37d-5254eb761bff
SEQUENCE:0
DTSTAMP:20260423T150558Z
END:VEVENT
END:VCALENDAR
