BEGIN:VCALENDAR
VERSION:2.0
PRODID:-ABConcerts-events
METHOD:PUBLISH
BEGIN:VEVENT
TRANSP:OPAQUE
DTSTART:20181116T200000
DTEND:20181116T223000
SUMMARY:The Vintage Caravan
LOCATION:AB Club - staand (Anspachlaan 110\, 1000 Brussel)
DESCRIPTION:Hardrock straight out of the Iceland of the ‘70s.
URL;VALUE=URI:https://www.abconcerts.be/en/agenda/the-vintage-caravan/a105J000001wdExQAI
UID:ABConcerts_event_cb12311e-59a0-11eb-ad4f-5254eb761bff
SEQUENCE:0
DTSTAMP:20260426T040133Z
END:VEVENT
END:VCALENDAR
