BEGIN:VCALENDAR
VERSION:2.0
PRODID:-ABConcerts-events
METHOD:PUBLISH
BEGIN:VEVENT
TRANSP:OPAQUE
DTSTART:20111219T200000
DTEND:20111219T223000
SUMMARY:The Vaccines
LOCATION:AB Grote zaal (Anspachlaan 110\, 1000 Brussel)
DESCRIPTION:British foursome conceals the best elements of The Kinks to\nArctic Monkeys in insanely impressive debut.British band The\nVaccines have delivered an outstanding rock album in ‘What\nDid You Expect From The Vaccines?’. Simple rock songs that\noften clock in under 3 minutes (The Ramones are never far\nremoved) and are so infectious that no foot remains unmoved.\nTheir first single ‘Wreckin’ Bar (Ra Ra Ra)’ was thus\nalso a huge instant hit\, followed by that other earworm\nentitled ‘Post Break-Up Sex’. They just recently played\nthe roof off the Marquee in Werchter\, and in the same\nbreath they announce a concert in AB: on Tuesday 18\nOctober.‘Where The Strokes stop and The Ramones began:\nthat&#39;s where the music of The Vaccines is housed’.\n(HUMO **** after Rock Werchter)‘Live\, they exhibited the\nexcessive bravado of a young group that still has everything\nto prove’. (De Morgen *** after Rock Werchter)            \n
URL;VALUE=URI:https://www.abconcerts.be/en/agenda/the-vaccines/a105J000001wgmtQAA
UID:ABConcerts_event_0e8a0d14-59a0-11eb-934c-5254eb761bff
SEQUENCE:0
DTSTAMP:20260422T052955Z
END:VEVENT
END:VCALENDAR
